Workbook

Sheet Hướng dẫn
A1: EXCELTOAPP
A2: Chuyển đổi file Excel thành Web App cho shop bán lẻ
A3: https://exceltoapp.vn
A5: HƯỚNG DẪN SỬ DỤNG
A7: 1. Các ô MÀU TRẮNG: nhập dữ liệu vào đây
A8: 2. Các ô MÀU XÁM: công thức tự động, KHÔNG sửa
A9: 3. Cột có menu thả xuống: click vào ô → chọn từ danh sách
A10: 4. Mã đơn hàng: tự động tạo, không cần nhập
A11: 5. Sheet này có thể xóa khi đã quen
A13: Mẹo: Ctrl+S để lưu. Ctrl+Z để hoàn tác nếu nhập sai.
A15: ────────────────────────────────────────
A17: BẠN ĐANG QUẢN LÝ SHOP BẰNG EXCEL?
... A29: Liên hệ: https://exceltoapp.vn

Sheet Đơn hàng
A1: Mã đơn | B1: Tên khách | C1: SĐT | D1: Sản phẩm | E1: Link SP | F1: Size/Màu | G1: SL | H1: Giá bán | I1: Tiền cọc | J1: Còn lại | K1: Trạng thái | L1: Đợt order | M1: Ghi chú
A2: Tự động | B2: Họ tên | C2: Điện thoại | D2: Tên SP | E2: Taobao/1688 | F2: Biến thể | G2: Số lượng | H2: VNĐ/sản phẩm | I2: Đã thu | J2: Giá x SL - Cọc | K2: Chọn từ menu | L2: Mã đợt
A3: =IF(B3="","",CONCATENATE("ORD-",TEXT(3-2,"000"))) | J3: =IF(B3="","",G3*H3-I3)
A4: =IF(B4="","",CONCATENATE("ORD-",TEXT(4-2,"000"))) | J4: =IF(B4="","",G4*H4-I4)
A5: =IF(B5="","",CONCATENATE("ORD-",TEXT(5-2,"000"))) | J5: =IF(B5="","",G5*H5-I5)
A6: =IF(B6="","",CONCATENATE("ORD-",TEXT(6-2,"000"))) | J6: =IF(B6="","",G6*H6-I6)
A7: =IF(B7="","",CONCATENATE("ORD-",TEXT(7-2,"000"))) | J7: =IF(B7="","",G7*H7-I7)
A8: =IF(B8="","",CONCATENATE("ORD-",TEXT(8-2,"000"))) | J8: =IF(B8="","",G8*H8-I8)
A9: =IF(B9="","",CONCATENATE("ORD-",TEXT(9-2,"000"))) | J9: =IF(B9="","",G9*H9-I9)
A10: =IF(B10="","",CONCATENATE("ORD-",TEXT(10-2,"000"))) | J10: =IF(B10="","",G10*H10-I10)
A11: =IF(B11="","",CONCATENATE("ORD-",TEXT(11-2,"000"))) | J11: =IF(B11="","",G11*H11-I11)
A12: =IF(B12="","",CONCATENATE("ORD-",TEXT(12-2,"000"))) | J12: =IF(B12="","",G12*H12-I12)
A13: =IF(B13="","",CONCATENATE("ORD-",TEXT(13-2,"000"))) | J13: =IF(B13="","",G13*H13-I13)
A14: =IF(B14="","",CONCATENATE("ORD-",TEXT(14-2,"000"))) | J14: =IF(B14="","",G14*H14-I14)
A15: =IF(B15="","",CONCATENATE("ORD-",TEXT(15-2,"000"))) | J15: =IF(B15="","",G15*H15-I15)
A16: =IF(B16="","",CONCATENATE("ORD-",TEXT(16-2,"000"))) | J16: =IF(B16="","",G16*H16-I16)
A17: =IF(B17="","",CONCATENATE("ORD-",TEXT(17-2,"000"))) | J17: =IF(B17="","",G17*H17-I17)
A18: =IF(B18="","",CONCATENATE("ORD-",TEXT(18-2,"000"))) | J18: =IF(B18="","",G18*H18-I18)
A19: =IF(B19="","",CONCATENATE("ORD-",TEXT(19-2,"000"))) | J19: =IF(B19="","",G19*H19-I19)
A20: =IF(B20="","",CONCATENATE("ORD-",TEXT(20-2,"000"))) | J20: =IF(B20="","",G20*H20-I20)
A21: =IF(B21="","",CONCATENATE("ORD-",TEXT(21-2,"000"))) | J21: =IF(B21="","",G21*H21-I21)
A22: =IF(B22="","",CONCATENATE("ORD-",TEXT(22-2,"000"))) | J22: =IF(B22="","",G22*H22-I22)
A23: =IF(B23="","",CONCATENATE("ORD-",TEXT(23-2,"000"))) | J23: =IF(B23="","",G23*H23-I23)
A24: =IF(B24="","",CONCATENATE("ORD-",TEXT(24-2,"000"))) | J24: =IF(B24="","",G24*H24-I24)
A25: =IF(B25="","",CONCATENATE("ORD-",TEXT(25-2,"000"))) | J25: =IF(B25="","",G25*H25-I25)
A26: =IF(B26="","",CONCATENATE("ORD-",TEXT(26-2,"000"))) | J26: =IF(B26="","",G26*H26-I26)
A27: =IF(B27="","",CONCATENATE("ORD-",TEXT(27-2,"000"))) | J27: =IF(B27="","",G27*H27-I27)
A28: =IF(B28="","",CONCATENATE("ORD-",TEXT(28-2,"000"))) | J28: =IF(B28="","",G28*H28-I28)
A29: =IF(B29="","",CONCATENATE("ORD-",TEXT(29-2,"000"))) | J29: =IF(B29="","",G29*H29-I29)
A30: =IF(B30="","",CONCATENATE("ORD-",TEXT(30-2,"000"))) | J30: =IF(B30="","",G30*H30-I30)
A31: =IF(B31="","",CONCATENATE("ORD-",TEXT(31-2,"000"))) | J31: =IF(B31="","",G31*H31-I31)
A32: =IF(B32="","",CONCATENATE("ORD-",TEXT(32-2,"000"))) | J32: =IF(B32="","",G32*H32-I32)
A33: =IF(B33="","",CONCATENATE("ORD-",TEXT(33-2,"000"))) | J33: =IF(B33="","",G33*H33-I33)
A34: =IF(B34="","",CONCATENATE("ORD-",TEXT(34-2,"000"))) | J34: =IF(B34="","",G34*H34-I34)
A35: =IF(B35="","",CONCATENATE("ORD-",TEXT(35-2,"000"))) | J35: =IF(B35="","",G35*H35-I35)
A36: =IF(B36="","",CONCATENATE("ORD-",TEXT(36-2,"000"))) | J36: =IF(B36="","",G36*H36-I36)
A37: =IF(B37="","",CONCATENATE("ORD-",TEXT(37-2,"000"))) | J37: =IF(B37="","",G37*H37-I37)
A38: =IF(B38="","",CONCATENATE("ORD-",TEXT(38-2,"000"))) | J38: =IF(B38="","",G38*H38-I38)
A39: =IF(B39="","",CONCATENATE("ORD-",TEXT(39-2,"000"))) | J39: =IF(B39="","",G39*H39-I39)
A40: =IF(B40="","",CONCATENATE("ORD-",TEXT(40-2,"000"))) | J40: =IF(B40="","",G40*H40-I40)
A41: =IF(B41="","",CONCATENATE("ORD-",TEXT(41-2,"000"))) | J41: =IF(B41="","",G41*H41-I41)
A42: =IF(B42="","",CONCATENATE("ORD-",TEXT(42-2,"000"))) | J42: =IF(B42="","",G42*H42-I42)
A43: =IF(B43="","",CONCATENATE("ORD-",TEXT(43-2,"000"))) | J43: =IF(B43="","",G43*H43-I43)
A44: =IF(B44="","",CONCATENATE("ORD-",TEXT(44-2,"000"))) | J44: =IF(B44="","",G44*H44-I44)
A45: =IF(B45="","",CONCATENATE("ORD-",TEXT(45-2,"000"))) | J45: =IF(B45="","",G45*H45-I45)
A46: =IF(B46="","",CONCATENATE("ORD-",TEXT(46-2,"000"))) | J46: =IF(B46="","",G46*H46-I46)
A47: =IF(B47="","",CONCATENATE("ORD-",TEXT(47-2,"000"))) | J47: =IF(B47="","",G47*H47-I47)
A48: =IF(B48="","",CONCATENATE("ORD-",TEXT(48-2,"000"))) | J48: =IF(B48="","",G48*H48-I48)
A49: =IF(B49="","",CONCATENATE("ORD-",TEXT(49-2,"000"))) | J49: =IF(B49="","",G49*H49-I49)
A50: =IF(B50="","",CONCATENATE("ORD-",TEXT(50-2,"000"))) | J50: =IF(B50="","",G50*H50-I50)
A51: =IF(B51="","",CONCATENATE("ORD-",TEXT(51-2,"000"))) | J51: =IF(B51="","",G51*H51-I51)
A52: =IF(B52="","",CONCATENATE("ORD-",TEXT(52-2,"000"))) | J52: =IF(B52="","",G52*H52-I52)
A53: =IF(B53="","",CONCATENATE("ORD-",TEXT(53-2,"000"))) | J53: =IF(B53="","",G53*H53-I53)
A54: =IF(B54="","",CONCATENATE("ORD-",TEXT(54-2,"000"))) | J54: =IF(B54="","",G54*H54-I54)
A55: =IF(B55="","",CONCATENATE("ORD-",TEXT(55-2,"000"))) | J55: =IF(B55="","",G55*H55-I55)
A56: =IF(B56="","",CONCATENATE("ORD-",TEXT(56-2,"000"))) | J56: =IF(B56="","",G56*H56-I56)
A57: =IF(B57="","",CONCATENATE("ORD-",TEXT(57-2,"000"))) | J57: =IF(B57="","",G57*H57-I57)
A58: =IF(B58="","",CONCATENATE("ORD-",TEXT(58-2,"000"))) | J58: =IF(B58="","",G58*H58-I58)
A59: =IF(B59="","",CONCATENATE("ORD-",TEXT(59-2,"000"))) | J59: =IF(B59="","",G59*H59-I59)
A60: =IF(B60="","",CONCATENATE("ORD-",TEXT(60-2,"000"))) | J60: =IF(B60="","",G60*H60-I60)
A61: =IF(B61="","",CONCATENATE("ORD-",TEXT(61-2,"000"))) | J61: =IF(B61="","",G61*H61-I61)
A62: =IF(B62="","",CONCATENATE("ORD-",TEXT(62-2,"000"))) | J62: =IF(B62="","",G62*H62-I62)
A63: =IF(B63="","",CONCATENATE("ORD-",TEXT(63-2,"000"))) | J63: =IF(B63="","",G63*H63-I63)
A64: =IF(B64="","",CONCATENATE("ORD-",TEXT(64-2,"000"))) | J64: =IF(B64="","",G64*H64-I64)
A65: =IF(B65="","",CONCATENATE("ORD-",TEXT(65-2,"000"))) | J65: =IF(B65="","",G65*H65-I65)
A66: =IF(B66="","",CONCATENATE("ORD-",TEXT(66-2,"000"))) | J66: =IF(B66="","",G66*H66-I66)
A67: =IF(B67="","",CONCATENATE("ORD-",TEXT(67-2,"000"))) | J67: =IF(B67="","",G67*H67-I67)
A68: =IF(B68="","",CONCATENATE("ORD-",TEXT(68-2,"000"))) | J68: =IF(B68="","",G68*H68-I68)
A69: =IF(B69="","",CONCATENATE("ORD-",TEXT(69-2,"000"))) | J69: =IF(B69="","",G69*H69-I69)
A70: =IF(B70="","",CONCATENATE("ORD-",TEXT(70-2,"000"))) | J70: =IF(B70="","",G70*H70-I70)
A71: =IF(B71="","",CONCATENATE("ORD-",TEXT(71-2,"000"))) | J71: =IF(B71="","",G71*H71-I71)
A72: =IF(B72="","",CONCATENATE("ORD-",TEXT(72-2,"000"))) | J72: =IF(B72="","",G72*H72-I72)
A73: =IF(B73="","",CONCATENATE("ORD-",TEXT(73-2,"000"))) | J73: =IF(B73="","",G73*H73-I73)
A74: =IF(B74="","",CONCATENATE("ORD-",TEXT(74-2,"000"))) | J74: =IF(B74="","",G74*H74-I74)
A75: =IF(B75="","",CONCATENATE("ORD-",TEXT(75-2,"000"))) | J75: =IF(B75="","",G75*H75-I75)
A76: =IF(B76="","",CONCATENATE("ORD-",TEXT(76-2,"000"))) | J76: =IF(B76="","",G76*H76-I76)
A77: =IF(B77="","",CONCATENATE("ORD-",TEXT(77-2,"000"))) | J77: =IF(B77="","",G77*H77-I77)
A78: =IF(B78="","",CONCATENATE("ORD-",TEXT(78-2,"000"))) | J78: =IF(B78="","",G78*H78-I78)
A79: =IF(B79="","",CONCATENATE("ORD-",TEXT(79-2,"000"))) | J79: =IF(B79="","",G79*H79-I79)
A80: =IF(B80="","",CONCATENATE("ORD-",TEXT(80-2,"000"))) | J80: =IF(B80="","",G80*H80-I80)
A81: =IF(B81="","",CONCATENATE("ORD-",TEXT(81-2,"000"))) | J81: =IF(B81="","",G81*H81-I81)
A82: =IF(B82="","",CONCATENATE("ORD-",TEXT(82-2,"000"))) | J82: =IF(B82="","",G82*H82-I82)
A83: =IF(B83="","",CONCATENATE("ORD-",TEXT(83-2,"000"))) | J83: =IF(B83="","",G83*H83-I83)
A84: =IF(B84="","",CONCATENATE("ORD-",TEXT(84-2,"000"))) | J84: =IF(B84="","",G84*H84-I84)
A85: =IF(B85="","",CONCATENATE("ORD-",TEXT(85-2,"000"))) | J85: =IF(B85="","",G85*H85-I85)
A86: =IF(B86="","",CONCATENATE("ORD-",TEXT(86-2,"000"))) | J86: =IF(B86="","",G86*H86-I86)
A87: =IF(B87="","",CONCATENATE("ORD-",TEXT(87-2,"000"))) | J87: =IF(B87="","",G87*H87-I87)
A88: =IF(B88="","",CONCATENATE("ORD-",TEXT(88-2,"000"))) | J88: =IF(B88="","",G88*H88-I88)
A89: =IF(B89="","",CONCATENATE("ORD-",TEXT(89-2,"000"))) | J89: =IF(B89="","",G89*H89-I89)
A90: =IF(B90="","",CONCATENATE("ORD-",TEXT(90-2,"000"))) | J90: =IF(B90="","",G90*H90-I90)
A91: =IF(B91="","",CONCATENATE("ORD-",TEXT(91-2,"000"))) | J91: =IF(B91="","",G91*H91-I91)
A92: =IF(B92="","",CONCATENATE("ORD-",TEXT(92-2,"000"))) | J92: =IF(B92="","",G92*H92-I92)
A93: =IF(B93="","",CONCATENATE("ORD-",TEXT(93-2,"000"))) | J93: =IF(B93="","",G93*H93-I93)
A94: =IF(B94="","",CONCATENATE("ORD-",TEXT(94-2,"000"))) | J94: =IF(B94="","",G94*H94-I94)
A95: =IF(B95="","",CONCATENATE("ORD-",TEXT(95-2,"000"))) | J95: =IF(B95="","",G95*H95-I95)
A96: =IF(B96="","",CONCATENATE("ORD-",TEXT(96-2,"000"))) | J96: =IF(B96="","",G96*H96-I96)
A97: =IF(B97="","",CONCATENATE("ORD-",TEXT(97-2,"000"))) | J97: =IF(B97="","",G97*H97-I97)
A98: =IF(B98="","",CONCATENATE("ORD-",TEXT(98-2,"000"))) | J98: =IF(B98="","",G98*H98-I98)
A99: =IF(B99="","",CONCATENATE("ORD-",TEXT(99-2,"000"))) | J99: =IF(B99="","",G99*H99-I99)
A100: =IF(B100="","",CONCATENATE("ORD-",TEXT(100-2,"000"))) | J100: =IF(B100="","",G100*H100-I100)
...

Sheet Khách hàng
A1: Tên khách | B1: SĐT | C1: Địa chỉ | D1: Facebook/Zalo | E1: Tổng đơn | F1: Tổng đã mua | G1: Ghi chú
A2: Họ tên | B2: Điện thoại | C2: Giao hàng | D2: Link profile | E2: Đếm từ Đơn hàng | F2: Tổng từ Đơn hàng | G2: VIP, hay hủy...
E3: =IF(A3="","",COUNTIF('Đơn hàng'!B:B,A3)) | F3: =IF(A3="","",SUMIF('Đơn hàng'!B:B,A3,'Đơn hàng'!J:J))
E4: =IF(A4="","",COUNTIF('Đơn hàng'!B:B,A4)) | F4: =IF(A4="","",SUMIF('Đơn hàng'!B:B,A4,'Đơn hàng'!J:J))
E5: =IF(A5="","",COUNTIF('Đơn hàng'!B:B,A5)) | F5: =IF(A5="","",SUMIF('Đơn hàng'!B:B,A5,'Đơn hàng'!J:J))
E6: =IF(A6="","",COUNTIF('Đơn hàng'!B:B,A6)) | F6: =IF(A6="","",SUMIF('Đơn hàng'!B:B,A6,'Đơn hàng'!J:J))
E7: =IF(A7="","",COUNTIF('Đơn hàng'!B:B,A7)) | F7: =IF(A7="","",SUMIF('Đơn hàng'!B:B,A7,'Đơn hàng'!J:J))
E8: =IF(A8="","",COUNTIF('Đơn hàng'!B:B,A8)) | F8: =IF(A8="","",SUMIF('Đơn hàng'!B:B,A8,'Đơn hàng'!J:J))
E9: =IF(A9="","",COUNTIF('Đơn hàng'!B:B,A9)) | F9: =IF(A9="","",SUMIF('Đơn hàng'!B:B,A9,'Đơn hàng'!J:J))
E10: =IF(A10="","",COUNTIF('Đơn hàng'!B:B,A10)) | F10: =IF(A10="","",SUMIF('Đơn hàng'!B:B,A10,'Đơn hàng'!J:J))
E11: =IF(A11="","",COUNTIF('Đơn hàng'!B:B,A11)) | F11: =IF(A11="","",SUMIF('Đơn hàng'!B:B,A11,'Đơn hàng'!J:J))
E12: =IF(A12="","",COUNTIF('Đơn hàng'!B:B,A12)) | F12: =IF(A12="","",SUMIF('Đơn hàng'!B:B,A12,'Đơn hàng'!J:J))
E13: =IF(A13="","",COUNTIF('Đơn hàng'!B:B,A13)) | F13: =IF(A13="","",SUMIF('Đơn hàng'!B:B,A13,'Đơn hàng'!J:J))
E14: =IF(A14="","",COUNTIF('Đơn hàng'!B:B,A14)) | F14: =IF(A14="","",SUMIF('Đơn hàng'!B:B,A14,'Đơn hàng'!J:J))
... E102: =IF(A102="","",COUNTIF('Đơn hàng'!B:B,A102)) | F102: =IF(A102="","",SUMIF('Đơn hàng'!B:B,A102,'Đơn hàng'!J:J))
A105: Tạo bởi ExcelToApp.vn — Cần phân quyền cho nhân viên? Liên hệ chúng tôi

Sheet Chi phi dot order
A1: Dot order | B1: Tong tien hang | C1: Phi ship quoc te | D1: Phi dai ly | E1: Phi ship noi dia | F1: Hang loi/tra lai | G1: Tong chi phi | H1: Tong thu | I1: Lai/Lo
A2: Ma dot | B2: Nhap thu cong | C2: VNĐ | D2: VNĐ | E2: VNĐ | F2: VNĐ | G2: Tong hang + phi | H2: Coc + con lai | I2: Thu - Chi
G3: =IF(A3="","",B3+C3+D3+E3+F3) | H3: =IF(A3="","",SUMIF('Đơn hàng'!L:L,A3,'Đơn hàng'!I:I)+SUMIF('Đơn hàng'!L:L,A3,'Đơn hàng'!J:J)) | I3: =IF(A3="","",H3-G3)
G4: =IF(A4="","",B4+C4+D4+E4+F4) | H4: =IF(A4="","",SUMIF('Đơn hàng'!L:L,A4,'Đơn hàng'!I:I)+SUMIF('Đơn hàng'!L:L,A4,'Đơn hàng'!J:J)) | I4: =IF(A4="","",H4-G4)
G5: =IF(A5="","",B5+C5+D5+E5+F5) | H5: =IF(A5="","",SUMIF('Đơn hàng'!L:L,A5,'Đơn hàng'!I:I)+SUMIF('Đơn hàng'!L:L,A5,'Đơn hàng'!J:J)) | I5: =IF(A5="","",H5-G5)
G6: =IF(A6="","",B6+C6+D6+E6+F6) | H6: =IF(A6="","",SUMIF('Đơn hàng'!L:L,A6,'Đơn hàng'!I:I)+SUMIF('Đơn hàng'!L:L,A6,'Đơn hàng'!J:J)) | I6: =IF(A6="","",H6-G6)
G7: =IF(A7="","",B7+C7+D7+E7+F7) | H7: =IF(A7="","",SUMIF('Đơn hàng'!L:L,A7,'Đơn hàng'!I:I)+SUMIF('Đơn hàng'!L:L,A7,'Đơn hàng'!J:J)) | I7: =IF(A7="","",H7-G7)
G8: =IF(A8="","",B8+C8+D8+E8+F8) | H8: =IF(A8="","",SUMIF('Đơn hàng'!L:L,A8,'Đơn hàng'!I:I)+SUMIF('Đơn hàng'!L:L,A8,'Đơn hàng'!J:J)) | I8: =IF(A8="","",H8-G8)
G9: =IF(A9="","",B9+C9+D9+E9+F9) | H9: =IF(A9="","",SUMIF('Đơn hàng'!L:L,A9,'Đơn hàng'!I:I)+SUMIF('Đơn hàng'!L:L,A9,'Đơn hàng'!J:J)) | I9: =IF(A9="","",H9-G9)
G10: =IF(A10="","",B10+C10+D10+E10+F10) | H10: =IF(A10="","",SUMIF('Đơn hàng'!L:L,A10,'Đơn hàng'!I:I)+SUMIF('Đơn hàng'!L:L,A10,'Đơn hàng'!J:J)) | I10: =IF(A10="","",H10-G10)
G11: =IF(A11="","",B11+C11+D11+E11+F11) | H11: =IF(A11="","",SUMIF('Đơn hàng'!L:L,A11,'Đơn hàng'!I:I)+SUMIF('Đơn hàng'!L:L,A11,'Đơn hàng'!J:J)) | I11: =IF(A11="","",H11-G11)
G12: =IF(A12="","",B12+C12+D12+E12+F12) | H12: =IF(A12="","",SUMIF('Đơn hàng'!L:L,A12,'Đơn hàng'!I:I)+SUMIF('Đơn hàng'!L:L,A12,'Đơn hàng'!J:J)) | I12: =IF(A12="","",H12-G12)
G13: =IF(A13="","",B13+C13+D13+E13+F13) | H13: =IF(A13="","",SUMIF('Đơn hàng'!L:L,A13,'Đơn hàng'!I:I)+SUMIF('Đơn hàng'!L:L,A13,'Đơn hàng'!J:J)) | I13: =IF(A13="","",H13-G13)
G14: =IF(A14="","",B14+C14+D14+E14+F14) | H14: =IF(A14="","",SUMIF('Đơn hàng'!L:L,A14,'Đơn hàng'!I:I)+SUMIF('Đơn hàng'!L:L,A14,'Đơn hàng'!J:J)) | I14: =IF(A14="","",H14-G14)
... G32: =IF(A32="","",B32+C32+D32+E32+F32) | H32: =IF(A32="","",SUMIF('Đơn hàng'!L:L,A32,'Đơn hàng'!I:I)+SUMIF('Đơn hàng'!L:L,A32,'Đơn hàng'!J:J)) | I32: =IF(A32="","",H32-G32)
A35: Tạo bởi ExcelToApp.vn — Cần phân quyền cho nhân viên? Liên hệ chúng tôi

Sheet Dashboard
A1: TỔNG QUAN HÀNG ORDER
A3: TRẠNG THÁI ĐƠN HÀNG
A4: Trạng thái | B4: Số đơn
A5: Chờ gom | B5: =COUNTIF('Đơn hàng'!K:K,A5)
A6: Đặt NCC | B6: =COUNTIF('Đơn hàng'!K:K,A6)
A7: Đang vận chuyển | B7: =COUNTIF('Đơn hàng'!K:K,A7)
A8: Về kho | B8: =COUNTIF('Đơn hàng'!K:K,A8)
A9: Đang giao | B9: =COUNTIF('Đơn hàng'!K:K,A9)
A10: Hoàn thành | B10: =COUNTIF('Đơn hàng'!K:K,A10)
A11: Hủy | B11: =COUNTIF('Đơn hàng'!K:K,A11)
A13: TỔNG QUAN TÀI CHÍNH
A14: Chỉ số | B14: Giá trị
A15: Tổng đơn hàng | B15: =COUNTA('Đơn hàng'!A3:A102)
A16: Tổng tiền cọc đã thu | B16: =SUM('Đơn hàng'!I3:I102)
A17: Tổng còn phải thu | B17: =SUM('Đơn hàng'!J3:J102)
A18: Tổng chi phí | B18: =SUM('Chi phi dot order'!G3:G32)
A19: Tổng thu | B19: =SUM('Chi phi dot order'!H3:H32)
A20: Lãi/Lỗ tổng | B20: =SUM('Chi phi dot order'!I3:I32)
A24: Tạo bởi ExcelToApp.vn — Cần phân quyền cho nhân viên? Liên hệ chúng tôi
