Workbook

Sheet Huong dan
A1: EXCELTOAPP
A2: Chuyển đổi file Excel thành Web App cho shop bán lẻ
A3: https://exceltoapp.vn
A5: HƯỚNG DẪN SỬ DỤNG
A7: 1. Sheet 'Danh muc': nhập tất cả hàng hóa đang bán
A8: 2. Sheet 'Phieu nhap': ghi nhận mỗi lần nhập hàng
A9: 3. Sheet 'Phieu xuat': ghi nhận mỗi lần bán/xuất hàng
A10: 4. Sheet 'Ton kho': tự động tính, KHÔNG nhập tay
A11: 5. Sheet 'Dashboard': tổng quan toàn bộ kho
A13: Các ô MÀU XÁM là công thức tự động — KHÔNG sửa.
A14: Các ô MÀU TRẮNG là nơi nhập dữ liệu.
A16: Mẹo: Dùng Google Sheets để nhiều người cùng sửa.
... A31: Liên hệ: https://exceltoapp.vn

Sheet Danh muc
A1: Mã hàng | B1: Tên hàng | C1: Nhóm hàng | D1: Đơn vị | E1: Giá nhập | F1: Giá bán | G1: Tồn tối thiểu | H1: NCC
A2: Tự động hoặc tự tạo | B2: Tên sản phẩm | C2: Áo/Quần/Phụ kiện | D2: Cái/hộp/thùng | E2: VND | F2: VND | G2: Cảnh báo | H2: Nhà cung cấp
A3: =IF(B3="","",CONCATENATE("SP-",TEXT(3-2,"000")))
A4: =IF(B4="","",CONCATENATE("SP-",TEXT(4-2,"000")))
A5: =IF(B5="","",CONCATENATE("SP-",TEXT(5-2,"000")))
A6: =IF(B6="","",CONCATENATE("SP-",TEXT(6-2,"000")))
A7: =IF(B7="","",CONCATENATE("SP-",TEXT(7-2,"000")))
A8: =IF(B8="","",CONCATENATE("SP-",TEXT(8-2,"000")))
A9: =IF(B9="","",CONCATENATE("SP-",TEXT(9-2,"000")))
A10: =IF(B10="","",CONCATENATE("SP-",TEXT(10-2,"000")))
A11: =IF(B11="","",CONCATENATE("SP-",TEXT(11-2,"000")))
A12: =IF(B12="","",CONCATENATE("SP-",TEXT(12-2,"000")))
A13: =IF(B13="","",CONCATENATE("SP-",TEXT(13-2,"000")))
A14: =IF(B14="","",CONCATENATE("SP-",TEXT(14-2,"000")))
A15: =IF(B15="","",CONCATENATE("SP-",TEXT(15-2,"000")))
A16: =IF(B16="","",CONCATENATE("SP-",TEXT(16-2,"000")))
A17: =IF(B17="","",CONCATENATE("SP-",TEXT(17-2,"000")))
A18: =IF(B18="","",CONCATENATE("SP-",TEXT(18-2,"000")))
A19: =IF(B19="","",CONCATENATE("SP-",TEXT(19-2,"000")))
A20: =IF(B20="","",CONCATENATE("SP-",TEXT(20-2,"000")))
A21: =IF(B21="","",CONCATENATE("SP-",TEXT(21-2,"000")))
A22: =IF(B22="","",CONCATENATE("SP-",TEXT(22-2,"000")))
A23: =IF(B23="","",CONCATENATE("SP-",TEXT(23-2,"000")))
A24: =IF(B24="","",CONCATENATE("SP-",TEXT(24-2,"000")))
A25: =IF(B25="","",CONCATENATE("SP-",TEXT(25-2,"000")))
A26: =IF(B26="","",CONCATENATE("SP-",TEXT(26-2,"000")))
A27: =IF(B27="","",CONCATENATE("SP-",TEXT(27-2,"000")))
A28: =IF(B28="","",CONCATENATE("SP-",TEXT(28-2,"000")))
A29: =IF(B29="","",CONCATENATE("SP-",TEXT(29-2,"000")))
A30: =IF(B30="","",CONCATENATE("SP-",TEXT(30-2,"000")))
A31: =IF(B31="","",CONCATENATE("SP-",TEXT(31-2,"000")))
A32: =IF(B32="","",CONCATENATE("SP-",TEXT(32-2,"000")))
A33: =IF(B33="","",CONCATENATE("SP-",TEXT(33-2,"000")))
A34: =IF(B34="","",CONCATENATE("SP-",TEXT(34-2,"000")))
A35: =IF(B35="","",CONCATENATE("SP-",TEXT(35-2,"000")))
A36: =IF(B36="","",CONCATENATE("SP-",TEXT(36-2,"000")))
A37: =IF(B37="","",CONCATENATE("SP-",TEXT(37-2,"000")))
A38: =IF(B38="","",CONCATENATE("SP-",TEXT(38-2,"000")))
A39: =IF(B39="","",CONCATENATE("SP-",TEXT(39-2,"000")))
A40: =IF(B40="","",CONCATENATE("SP-",TEXT(40-2,"000")))
A41: =IF(B41="","",CONCATENATE("SP-",TEXT(41-2,"000")))
A42: =IF(B42="","",CONCATENATE("SP-",TEXT(42-2,"000")))
A43: =IF(B43="","",CONCATENATE("SP-",TEXT(43-2,"000")))
A44: =IF(B44="","",CONCATENATE("SP-",TEXT(44-2,"000")))
A45: =IF(B45="","",CONCATENATE("SP-",TEXT(45-2,"000")))
A46: =IF(B46="","",CONCATENATE("SP-",TEXT(46-2,"000")))
A47: =IF(B47="","",CONCATENATE("SP-",TEXT(47-2,"000")))
A48: =IF(B48="","",CONCATENATE("SP-",TEXT(48-2,"000")))
A49: =IF(B49="","",CONCATENATE("SP-",TEXT(49-2,"000")))
A50: =IF(B50="","",CONCATENATE("SP-",TEXT(50-2,"000")))
A51: =IF(B51="","",CONCATENATE("SP-",TEXT(51-2,"000")))
A52: =IF(B52="","",CONCATENATE("SP-",TEXT(52-2,"000")))
A53: =IF(B53="","",CONCATENATE("SP-",TEXT(53-2,"000")))
A54: =IF(B54="","",CONCATENATE("SP-",TEXT(54-2,"000")))
A55: =IF(B55="","",CONCATENATE("SP-",TEXT(55-2,"000")))
A56: =IF(B56="","",CONCATENATE("SP-",TEXT(56-2,"000")))
A57: =IF(B57="","",CONCATENATE("SP-",TEXT(57-2,"000")))
A58: =IF(B58="","",CONCATENATE("SP-",TEXT(58-2,"000")))
A59: =IF(B59="","",CONCATENATE("SP-",TEXT(59-2,"000")))
A60: =IF(B60="","",CONCATENATE("SP-",TEXT(60-2,"000")))
A61: =IF(B61="","",CONCATENATE("SP-",TEXT(61-2,"000")))
A62: =IF(B62="","",CONCATENATE("SP-",TEXT(62-2,"000")))
A63: =IF(B63="","",CONCATENATE("SP-",TEXT(63-2,"000")))
A64: =IF(B64="","",CONCATENATE("SP-",TEXT(64-2,"000")))
A65: =IF(B65="","",CONCATENATE("SP-",TEXT(65-2,"000")))
A66: =IF(B66="","",CONCATENATE("SP-",TEXT(66-2,"000")))
A67: =IF(B67="","",CONCATENATE("SP-",TEXT(67-2,"000")))
A68: =IF(B68="","",CONCATENATE("SP-",TEXT(68-2,"000")))
A69: =IF(B69="","",CONCATENATE("SP-",TEXT(69-2,"000")))
A70: =IF(B70="","",CONCATENATE("SP-",TEXT(70-2,"000")))
A71: =IF(B71="","",CONCATENATE("SP-",TEXT(71-2,"000")))
A72: =IF(B72="","",CONCATENATE("SP-",TEXT(72-2,"000")))
A73: =IF(B73="","",CONCATENATE("SP-",TEXT(73-2,"000")))
A74: =IF(B74="","",CONCATENATE("SP-",TEXT(74-2,"000")))
A75: =IF(B75="","",CONCATENATE("SP-",TEXT(75-2,"000")))
A76: =IF(B76="","",CONCATENATE("SP-",TEXT(76-2,"000")))
A77: =IF(B77="","",CONCATENATE("SP-",TEXT(77-2,"000")))
A78: =IF(B78="","",CONCATENATE("SP-",TEXT(78-2,"000")))
A79: =IF(B79="","",CONCATENATE("SP-",TEXT(79-2,"000")))
A80: =IF(B80="","",CONCATENATE("SP-",TEXT(80-2,"000")))
A81: =IF(B81="","",CONCATENATE("SP-",TEXT(81-2,"000")))
A82: =IF(B82="","",CONCATENATE("SP-",TEXT(82-2,"000")))
A83: =IF(B83="","",CONCATENATE("SP-",TEXT(83-2,"000")))
A84: =IF(B84="","",CONCATENATE("SP-",TEXT(84-2,"000")))
A85: =IF(B85="","",CONCATENATE("SP-",TEXT(85-2,"000")))
A86: =IF(B86="","",CONCATENATE("SP-",TEXT(86-2,"000")))
A87: =IF(B87="","",CONCATENATE("SP-",TEXT(87-2,"000")))
A88: =IF(B88="","",CONCATENATE("SP-",TEXT(88-2,"000")))
A89: =IF(B89="","",CONCATENATE("SP-",TEXT(89-2,"000")))
A90: =IF(B90="","",CONCATENATE("SP-",TEXT(90-2,"000")))
A91: =IF(B91="","",CONCATENATE("SP-",TEXT(91-2,"000")))
A92: =IF(B92="","",CONCATENATE("SP-",TEXT(92-2,"000")))
A93: =IF(B93="","",CONCATENATE("SP-",TEXT(93-2,"000")))
A94: =IF(B94="","",CONCATENATE("SP-",TEXT(94-2,"000")))
A95: =IF(B95="","",CONCATENATE("SP-",TEXT(95-2,"000")))
A96: =IF(B96="","",CONCATENATE("SP-",TEXT(96-2,"000")))
A97: =IF(B97="","",CONCATENATE("SP-",TEXT(97-2,"000")))
A98: =IF(B98="","",CONCATENATE("SP-",TEXT(98-2,"000")))
A99: =IF(B99="","",CONCATENATE("SP-",TEXT(99-2,"000")))
A100: =IF(B100="","",CONCATENATE("SP-",TEXT(100-2,"000")))
...

Sheet Phieu nhap
A1: Ngày nhập | B1: Mã hàng | C1: Tên hàng | D1: SL | E1: Đơn giá | F1: Thành tiền | G1: NCC | H1: Ghi chú
A2: Ngày nhận | B2: SP-001 | C2: Tự động điền | D2: Số lượng | E2: Giá nhập | F2: SL x Don gia | G2: Nhà cung cấp
C3: =IF(B3="","",VLOOKUP(B3,'Danh muc'!A:B,2,FALSE)) | F3: =IF(B3="","",D3*E3)
C4: =IF(B4="","",VLOOKUP(B4,'Danh muc'!A:B,2,FALSE)) | F4: =IF(B4="","",D4*E4)
C5: =IF(B5="","",VLOOKUP(B5,'Danh muc'!A:B,2,FALSE)) | F5: =IF(B5="","",D5*E5)
C6: =IF(B6="","",VLOOKUP(B6,'Danh muc'!A:B,2,FALSE)) | F6: =IF(B6="","",D6*E6)
C7: =IF(B7="","",VLOOKUP(B7,'Danh muc'!A:B,2,FALSE)) | F7: =IF(B7="","",D7*E7)
C8: =IF(B8="","",VLOOKUP(B8,'Danh muc'!A:B,2,FALSE)) | F8: =IF(B8="","",D8*E8)
C9: =IF(B9="","",VLOOKUP(B9,'Danh muc'!A:B,2,FALSE)) | F9: =IF(B9="","",D9*E9)
C10: =IF(B10="","",VLOOKUP(B10,'Danh muc'!A:B,2,FALSE)) | F10: =IF(B10="","",D10*E10)
C11: =IF(B11="","",VLOOKUP(B11,'Danh muc'!A:B,2,FALSE)) | F11: =IF(B11="","",D11*E11)
C12: =IF(B12="","",VLOOKUP(B12,'Danh muc'!A:B,2,FALSE)) | F12: =IF(B12="","",D12*E12)
C13: =IF(B13="","",VLOOKUP(B13,'Danh muc'!A:B,2,FALSE)) | F13: =IF(B13="","",D13*E13)
C14: =IF(B14="","",VLOOKUP(B14,'Danh muc'!A:B,2,FALSE)) | F14: =IF(B14="","",D14*E14)
... C502: =IF(B502="","",VLOOKUP(B502,'Danh muc'!A:B,2,FALSE)) | F502: =IF(B502="","",D502*E502)
A505: Tạo bởi ExcelToApp.vn — Cần phân quyền cho nhân viên? Liên hệ chúng tôi

Sheet Phieu xuat
A1: Ngày xuất | B1: Mã hàng | C1: Tên hàng | D1: SL | E1: Đơn giá bán | F1: Thành tiền | G1: Lý do | H1: Ghi chú
A2: Ngày bán/xuất | B2: SP-001 | C2: Tự động điền | D2: Số lượng | E2: Giá bán | F2: SL x Don gia | G2: Chọn từ menu
C3: =IF(B3="","",VLOOKUP(B3,'Danh muc'!A:B,2,FALSE)) | F3: =IF(B3="","",D3*E3)
C4: =IF(B4="","",VLOOKUP(B4,'Danh muc'!A:B,2,FALSE)) | F4: =IF(B4="","",D4*E4)
C5: =IF(B5="","",VLOOKUP(B5,'Danh muc'!A:B,2,FALSE)) | F5: =IF(B5="","",D5*E5)
C6: =IF(B6="","",VLOOKUP(B6,'Danh muc'!A:B,2,FALSE)) | F6: =IF(B6="","",D6*E6)
C7: =IF(B7="","",VLOOKUP(B7,'Danh muc'!A:B,2,FALSE)) | F7: =IF(B7="","",D7*E7)
C8: =IF(B8="","",VLOOKUP(B8,'Danh muc'!A:B,2,FALSE)) | F8: =IF(B8="","",D8*E8)
C9: =IF(B9="","",VLOOKUP(B9,'Danh muc'!A:B,2,FALSE)) | F9: =IF(B9="","",D9*E9)
C10: =IF(B10="","",VLOOKUP(B10,'Danh muc'!A:B,2,FALSE)) | F10: =IF(B10="","",D10*E10)
C11: =IF(B11="","",VLOOKUP(B11,'Danh muc'!A:B,2,FALSE)) | F11: =IF(B11="","",D11*E11)
C12: =IF(B12="","",VLOOKUP(B12,'Danh muc'!A:B,2,FALSE)) | F12: =IF(B12="","",D12*E12)
C13: =IF(B13="","",VLOOKUP(B13,'Danh muc'!A:B,2,FALSE)) | F13: =IF(B13="","",D13*E13)
C14: =IF(B14="","",VLOOKUP(B14,'Danh muc'!A:B,2,FALSE)) | F14: =IF(B14="","",D14*E14)
... C502: =IF(B502="","",VLOOKUP(B502,'Danh muc'!A:B,2,FALSE)) | F502: =IF(B502="","",D502*E502)
A505: Tạo bởi ExcelToApp.vn — Cần phân quyền cho nhân viên? Liên hệ chúng tôi

Sheet Ton kho
A1: Mã hàng | B1: Tên hàng | C1: Nhóm hàng | D1: Giá nhập | E1: Tổng nhập | F1: Tổng xuất | G1: Tồn hiện tại | H1: Trạng thái | I1: Giá trị tồn
A2: Từ Danh muc | B2: Tự động | C2: Tự động | D2: Tự động | E2: Tong tu Phieu nhap | F2: Tong tu Phieu xuat | G2: Nhap - Xuat | H2: Tự động | I2: Ton x Gia nhap
A3: =IF('Danh muc'!A3="","",'Danh muc'!A3) | B3: =IF(A3="","",VLOOKUP(A3,'Danh muc'!A:B,2,FALSE)) | C3: =IF(A3="","",VLOOKUP(A3,'Danh muc'!A:C,3,FALSE)) | D3: =IF(A3="","",VLOOKUP(A3,'Danh muc'!A:E,5,FALSE)) | E3: =IF(A3="","",SUMIF('Phieu nhap'!B:B,A3,'Phieu nhap'!D:D)) | F3: =IF(A3="","",SUMIF('Phieu xuat'!B:B,A3,'Phieu xuat'!D:D)) | G3: =IF(A3="","",E3-F3) | H3: =IF(A3="","",IF(G3=0,"Hết hàng",IF(G3<VLOOKUP(A3,'Danh muc'!A:G,7,FALSE),"Sắp hết","Còn hàng"))) | I3: =IF(A3="","",G3*D3)
A4: =IF('Danh muc'!A4="","",'Danh muc'!A4) | B4: =IF(A4="","",VLOOKUP(A4,'Danh muc'!A:B,2,FALSE)) | C4: =IF(A4="","",VLOOKUP(A4,'Danh muc'!A:C,3,FALSE)) | D4: =IF(A4="","",VLOOKUP(A4,'Danh muc'!A:E,5,FALSE)) | E4: =IF(A4="","",SUMIF('Phieu nhap'!B:B,A4,'Phieu nhap'!D:D)) | F4: =IF(A4="","",SUMIF('Phieu xuat'!B:B,A4,'Phieu xuat'!D:D)) | G4: =IF(A4="","",E4-F4) | H4: =IF(A4="","",IF(G4=0,"Hết hàng",IF(G4<VLOOKUP(A4,'Danh muc'!A:G,7,FALSE),"Sắp hết","Còn hàng"))) | I4: =IF(A4="","",G4*D4)
A5: =IF('Danh muc'!A5="","",'Danh muc'!A5) | B5: =IF(A5="","",VLOOKUP(A5,'Danh muc'!A:B,2,FALSE)) | C5: =IF(A5="","",VLOOKUP(A5,'Danh muc'!A:C,3,FALSE)) | D5: =IF(A5="","",VLOOKUP(A5,'Danh muc'!A:E,5,FALSE)) | E5: =IF(A5="","",SUMIF('Phieu nhap'!B:B,A5,'Phieu nhap'!D:D)) | F5: =IF(A5="","",SUMIF('Phieu xuat'!B:B,A5,'Phieu xuat'!D:D)) | G5: =IF(A5="","",E5-F5) | H5: =IF(A5="","",IF(G5=0,"Hết hàng",IF(G5<VLOOKUP(A5,'Danh muc'!A:G,7,FALSE),"Sắp hết","Còn hàng"))) | I5: =IF(A5="","",G5*D5)
A6: =IF('Danh muc'!A6="","",'Danh muc'!A6) | B6: =IF(A6="","",VLOOKUP(A6,'Danh muc'!A:B,2,FALSE)) | C6: =IF(A6="","",VLOOKUP(A6,'Danh muc'!A:C,3,FALSE)) | D6: =IF(A6="","",VLOOKUP(A6,'Danh muc'!A:E,5,FALSE)) | E6: =IF(A6="","",SUMIF('Phieu nhap'!B:B,A6,'Phieu nhap'!D:D)) | F6: =IF(A6="","",SUMIF('Phieu xuat'!B:B,A6,'Phieu xuat'!D:D)) | G6: =IF(A6="","",E6-F6) | H6: =IF(A6="","",IF(G6=0,"Hết hàng",IF(G6<VLOOKUP(A6,'Danh muc'!A:G,7,FALSE),"Sắp hết","Còn hàng"))) | I6: =IF(A6="","",G6*D6)
A7: =IF('Danh muc'!A7="","",'Danh muc'!A7) | B7: =IF(A7="","",VLOOKUP(A7,'Danh muc'!A:B,2,FALSE)) | C7: =IF(A7="","",VLOOKUP(A7,'Danh muc'!A:C,3,FALSE)) | D7: =IF(A7="","",VLOOKUP(A7,'Danh muc'!A:E,5,FALSE)) | E7: =IF(A7="","",SUMIF('Phieu nhap'!B:B,A7,'Phieu nhap'!D:D)) | F7: =IF(A7="","",SUMIF('Phieu xuat'!B:B,A7,'Phieu xuat'!D:D)) | G7: =IF(A7="","",E7-F7) | H7: =IF(A7="","",IF(G7=0,"Hết hàng",IF(G7<VLOOKUP(A7,'Danh muc'!A:G,7,FALSE),"Sắp hết","Còn hàng"))) | I7: =IF(A7="","",G7*D7)
A8: =IF('Danh muc'!A8="","",'Danh muc'!A8) | B8: =IF(A8="","",VLOOKUP(A8,'Danh muc'!A:B,2,FALSE)) | C8: =IF(A8="","",VLOOKUP(A8,'Danh muc'!A:C,3,FALSE)) | D8: =IF(A8="","",VLOOKUP(A8,'Danh muc'!A:E,5,FALSE)) | E8: =IF(A8="","",SUMIF('Phieu nhap'!B:B,A8,'Phieu nhap'!D:D)) | F8: =IF(A8="","",SUMIF('Phieu xuat'!B:B,A8,'Phieu xuat'!D:D)) | G8: =IF(A8="","",E8-F8) | H8: =IF(A8="","",IF(G8=0,"Hết hàng",IF(G8<VLOOKUP(A8,'Danh muc'!A:G,7,FALSE),"Sắp hết","Còn hàng"))) | I8: =IF(A8="","",G8*D8)
A9: =IF('Danh muc'!A9="","",'Danh muc'!A9) | B9: =IF(A9="","",VLOOKUP(A9,'Danh muc'!A:B,2,FALSE)) | C9: =IF(A9="","",VLOOKUP(A9,'Danh muc'!A:C,3,FALSE)) | D9: =IF(A9="","",VLOOKUP(A9,'Danh muc'!A:E,5,FALSE)) | E9: =IF(A9="","",SUMIF('Phieu nhap'!B:B,A9,'Phieu nhap'!D:D)) | F9: =IF(A9="","",SUMIF('Phieu xuat'!B:B,A9,'Phieu xuat'!D:D)) | G9: =IF(A9="","",E9-F9) | H9: =IF(A9="","",IF(G9=0,"Hết hàng",IF(G9<VLOOKUP(A9,'Danh muc'!A:G,7,FALSE),"Sắp hết","Còn hàng"))) | I9: =IF(A9="","",G9*D9)
A10: =IF('Danh muc'!A10="","",'Danh muc'!A10) | B10: =IF(A10="","",VLOOKUP(A10,'Danh muc'!A:B,2,FALSE)) | C10: =IF(A10="","",VLOOKUP(A10,'Danh muc'!A:C,3,FALSE)) | D10: =IF(A10="","",VLOOKUP(A10,'Danh muc'!A:E,5,FALSE)) | E10: =IF(A10="","",SUMIF('Phieu nhap'!B:B,A10,'Phieu nhap'!D:D)) | F10: =IF(A10="","",SUMIF('Phieu xuat'!B:B,A10,'Phieu xuat'!D:D)) | G10: =IF(A10="","",E10-F10) | H10: =IF(A10="","",IF(G10=0,"Hết hàng",IF(G10<VLOOKUP(A10,'Danh muc'!A:G,7,FALSE),"Sắp hết","Còn hàng"))) | I10: =IF(A10="","",G10*D10)
A11: =IF('Danh muc'!A11="","",'Danh muc'!A11) | B11: =IF(A11="","",VLOOKUP(A11,'Danh muc'!A:B,2,FALSE)) | C11: =IF(A11="","",VLOOKUP(A11,'Danh muc'!A:C,3,FALSE)) | D11: =IF(A11="","",VLOOKUP(A11,'Danh muc'!A:E,5,FALSE)) | E11: =IF(A11="","",SUMIF('Phieu nhap'!B:B,A11,'Phieu nhap'!D:D)) | F11: =IF(A11="","",SUMIF('Phieu xuat'!B:B,A11,'Phieu xuat'!D:D)) | G11: =IF(A11="","",E11-F11) | H11: =IF(A11="","",IF(G11=0,"Hết hàng",IF(G11<VLOOKUP(A11,'Danh muc'!A:G,7,FALSE),"Sắp hết","Còn hàng"))) | I11: =IF(A11="","",G11*D11)
A12: =IF('Danh muc'!A12="","",'Danh muc'!A12) | B12: =IF(A12="","",VLOOKUP(A12,'Danh muc'!A:B,2,FALSE)) | C12: =IF(A12="","",VLOOKUP(A12,'Danh muc'!A:C,3,FALSE)) | D12: =IF(A12="","",VLOOKUP(A12,'Danh muc'!A:E,5,FALSE)) | E12: =IF(A12="","",SUMIF('Phieu nhap'!B:B,A12,'Phieu nhap'!D:D)) | F12: =IF(A12="","",SUMIF('Phieu xuat'!B:B,A12,'Phieu xuat'!D:D)) | G12: =IF(A12="","",E12-F12) | H12: =IF(A12="","",IF(G12=0,"Hết hàng",IF(G12<VLOOKUP(A12,'Danh muc'!A:G,7,FALSE),"Sắp hết","Còn hàng"))) | I12: =IF(A12="","",G12*D12)
A13: =IF('Danh muc'!A13="","",'Danh muc'!A13) | B13: =IF(A13="","",VLOOKUP(A13,'Danh muc'!A:B,2,FALSE)) | C13: =IF(A13="","",VLOOKUP(A13,'Danh muc'!A:C,3,FALSE)) | D13: =IF(A13="","",VLOOKUP(A13,'Danh muc'!A:E,5,FALSE)) | E13: =IF(A13="","",SUMIF('Phieu nhap'!B:B,A13,'Phieu nhap'!D:D)) | F13: =IF(A13="","",SUMIF('Phieu xuat'!B:B,A13,'Phieu xuat'!D:D)) | G13: =IF(A13="","",E13-F13) | H13: =IF(A13="","",IF(G13=0,"Hết hàng",IF(G13<VLOOKUP(A13,'Danh muc'!A:G,7,FALSE),"Sắp hết","Còn hàng"))) | I13: =IF(A13="","",G13*D13)
A14: =IF('Danh muc'!A14="","",'Danh muc'!A14) | B14: =IF(A14="","",VLOOKUP(A14,'Danh muc'!A:B,2,FALSE)) | C14: =IF(A14="","",VLOOKUP(A14,'Danh muc'!A:C,3,FALSE)) | D14: =IF(A14="","",VLOOKUP(A14,'Danh muc'!A:E,5,FALSE)) | E14: =IF(A14="","",SUMIF('Phieu nhap'!B:B,A14,'Phieu nhap'!D:D)) | F14: =IF(A14="","",SUMIF('Phieu xuat'!B:B,A14,'Phieu xuat'!D:D)) | G14: =IF(A14="","",E14-F14) | H14: =IF(A14="","",IF(G14=0,"Hết hàng",IF(G14<VLOOKUP(A14,'Danh muc'!A:G,7,FALSE),"Sắp hết","Còn hàng"))) | I14: =IF(A14="","",G14*D14)
... A202: =IF('Danh muc'!A202="","",'Danh muc'!A202) | B202: =IF(A202="","",VLOOKUP(A202,'Danh muc'!A:B,2,FALSE)) | C202: =IF(A202="","",VLOOKUP(A202,'Danh muc'!A:C,3,FALSE)) | D202: =IF(A202="","",VLOOKUP(A202,'Danh muc'!A:E,5,FALSE)) | E202: =IF(A202="","",SUMIF('Phieu nhap'!B:B,A202,'Phieu nhap'!D:D)) | F202: =IF(A202="","",SUMIF('Phieu xuat'!B:B,A202,'Phieu xuat'!D:D)) | G202: =IF(A202="","",E202-F202) | H202: =IF(A202="","",IF(G202=0,"Hết hàng",IF(G202<VLOOKUP(A202,'Danh muc'!A:G,7,FALSE),"Sắp hết","Còn hàng"))) | I202: =IF(A202="","",G202*D202)
A205: Tạo bởi ExcelToApp.vn — Cần phân quyền cho nhân viên? Liên hệ chúng tôi

Sheet Dashboard
A1: TỔNG QUAN KHO HÀNG
A3: TỔNG QUAN
A4: Chỉ số | B4: Giá trị
A5: Tổng số mặt hàng | B5: =COUNTA('Danh muc'!A3:A202)-COUNTBLANK('Danh muc'!A3:A202)
A6: Tổng giá trị tồn kho | B6: =SUM('Ton kho'!I3:I202)
A7: Hàng còn hàng | B7: =COUNTIF('Ton kho'!H3:H202,"Còn hàng")
A8: Hàng sắp hết | B8: =COUNTIF('Ton kho'!H3:H202,"Sắp hết")
A9: Hàng hết hàng | B9: =COUNTIF('Ton kho'!H3:H202,"Hết hàng")
A13: Tạo bởi ExcelToApp.vn — Cần phân quyền cho nhân viên? Liên hệ chúng tôi
